BEGIN:VCALENDAR
VERSION:2.0
PRODID:-//Plataforma de Colaboração para Olimpíadas Científicas - ECPv6.14.0//NONSGML v1.0//EN
CALSCALE:GREGORIAN
METHOD:PUBLISH
X-WR-CALNAME:Plataforma de Colaboração para Olimpíadas Científicas
X-ORIGINAL-URL:https://comunidade-olimpiadas.ibict.br
X-WR-CALDESC:Eventos para Plataforma de Colaboração para Olimpíadas Científicas
REFRESH-INTERVAL;VALUE=DURATION:PT1H
X-Robots-Tag:noindex
X-PUBLISHED-TTL:PT1H
BEGIN:VTIMEZONE
TZID:America/Sao_Paulo
BEGIN:STANDARD
TZOFFSETFROM:-0300
TZOFFSETTO:-0300
TZNAME:-03
DTSTART:20260101T000000
END:STANDARD
END:VTIMEZONE
BEGIN:VEVENT
DTSTART;TZID=America/Sao_Paulo:20260311T080000
DTEND;TZID=America/Sao_Paulo:20260430T170000
DTSTAMP:20260419T215440
CREATED:20260406T134926Z
LAST-MODIFIED:20260406T134926Z
UID:3791-1773216000-1777568400@comunidade-olimpiadas.ibict.br
SUMMARY:OBR (Olimpíada Brasileira de Robótica) – Início das Inscrições Modalidades Prática
DESCRIPTION:Área temática \n\nRobótica\nTecnologia\n\nPúblico-alvo \n\nEstudantes do Ensino Fundamental\, Médio e Técnico Integrado de escolas públicas e privadas.\n\nFinanciamento\, apoio e/ou organização \n\nRoboCup Brasil\nCNPq\nMinistério da Ciência\nTecnologia e Inovação (MCTI)
URL:https://comunidade-olimpiadas.ibict.br/event/obr-olimpiada-brasileira-de-robotica-inicio-das-inscricoes-modalidades-pratica/
CATEGORIES:Início e Fim de Inscrições
ATTACH;FMTTYPE=image/png:https://comunidade-olimpiadas.ibict.br/wp-content/uploads/2025/03/obr.png
END:VEVENT
BEGIN:VEVENT
DTSTART;TZID=America/Sao_Paulo:20260312T080000
DTEND;TZID=America/Sao_Paulo:20260612T170000
DTSTAMP:20260419T215440
CREATED:20260406T134310Z
LAST-MODIFIED:20260406T134543Z
UID:3787-1773302400-1781283600@comunidade-olimpiadas.ibict.br
SUMMARY:OBR (Olimpíada Brasileira de Robótica) – Início das Inscrições Modalidades Teórica
DESCRIPTION:Área temática \n\nRobótica\nTecnologia\n\nPúblico-alvo \n\nEstudantes do Ensino Fundamental\, Médio e Técnico Integrado de escolas públicas e privadas.\n\nFinanciamento\, apoio e/ou organização \n\nRoboCup Brasil\nCNPq\nMinistério da Ciência\nTecnologia e Inovação (MCTI)
URL:https://comunidade-olimpiadas.ibict.br/event/obr-olimpiada-brasileira-de-robotica-inicio-das-inscricoes-modalidades-teorica-e-pratica/
CATEGORIES:Início e Fim de Inscrições
ATTACH;FMTTYPE=image/png:https://comunidade-olimpiadas.ibict.br/wp-content/uploads/2025/03/obr.png
END:VEVENT
BEGIN:VEVENT
DTSTART;TZID=America/Sao_Paulo:20260314T000000
DTEND;TZID=America/Sao_Paulo:20260525T235900
DTSTAMP:20260419T215440
CREATED:20260312T115037Z
LAST-MODIFIED:20260312T115912Z
UID:3718-1773446400-1779753540@comunidade-olimpiadas.ibict.br
SUMMARY:OBFEP (Olimpíada Brasileira de Física das Escolas Públicas) – Início das Inscrições – Apenas escolas públicas
DESCRIPTION:Área temática: \n\nFísica\n\nPúblico alvo \n\nEstudantes do Ensino Fundamental II (9º ano)\nEnsino Médio matriculados na rede pública\n\nFinanciamento\, apoio e/ou organização \n\nSBF (Sociedade Brasileira de Física)\nCNPq
URL:https://comunidade-olimpiadas.ibict.br/event/obfep-olimpiada-brasileira-de-fisica-das-escolas-publicas-inicio-das-inscricoes-apenas-escolas-publicas/
CATEGORIES:Início e Fim de Inscrições
ATTACH;FMTTYPE=image/png:https://comunidade-olimpiadas.ibict.br/wp-content/uploads/2025/05/OBFEP.png
END:VEVENT
BEGIN:VEVENT
DTSTART;TZID=America/Sao_Paulo:20260402T080000
DTEND;TZID=America/Sao_Paulo:20260606T170000
DTSTAMP:20260419T215440
CREATED:20260406T135759Z
LAST-MODIFIED:20260406T135759Z
UID:3793-1775116800-1780765200@comunidade-olimpiadas.ibict.br
SUMMARY:OBF (Olimpíada Brasileira de Física) – Abertura das Inscrições
DESCRIPTION:Área temática \n\nFísica\n\nPúblico-alvo \n\nEstudantes do 8º e 9º ano do Ensino Fundamental e do Ensino Médio de escolas públicas e particulares\n\nFinanciamento\, apoio e/ou organização \n\n\nSBF (Sociedade Brasileira de Física)
URL:https://comunidade-olimpiadas.ibict.br/event/obf-olimpiada-brasileira-de-fisica-abertura-das-inscricoes/
CATEGORIES:Início e Fim de Inscrições
ATTACH;FMTTYPE=image/png:https://comunidade-olimpiadas.ibict.br/wp-content/uploads/2025/05/OBF.png
END:VEVENT
BEGIN:VEVENT
DTSTART;TZID=America/Sao_Paulo:20260406T080000
DTEND;TZID=America/Sao_Paulo:20260616T170000
DTSTAMP:20260419T215440
CREATED:20260312T115747Z
LAST-MODIFIED:20260312T115747Z
UID:3721-1775462400-1781629200@comunidade-olimpiadas.ibict.br
SUMMARY:OBG (Olimpíada Brasileira de Geografia) – Início das Inscrições – Sem restrições
DESCRIPTION:Área temática \n\nGeografia\n\nPúblico alvo \n\nEquipes de estudantes do 9º ano do Ensino Fundamental\nEnsino Médio de escolas públicas e particulares.\n\nFinanciamento\, apoio e/ou organização \n\nUNIFAL-MG\nAssociação Brasileira de Geografia
URL:https://comunidade-olimpiadas.ibict.br/event/obg-olimpiada-brasileira-de-geografia-inicio-das-inscricoes-sem-restricoes/
CATEGORIES:Início e Fim de Inscrições
ATTACH;FMTTYPE=image/png:https://comunidade-olimpiadas.ibict.br/wp-content/uploads/2025/05/OBG.png
END:VEVENT
BEGIN:VEVENT
DTSTART;VALUE=DATE:20260430
DTEND;VALUE=DATE:20260501
DTSTAMP:20260419T215440
CREATED:20250529T011801Z
LAST-MODIFIED:20250702T140344Z
UID:2198-1777507200-1777593599@comunidade-olimpiadas.ibict.br
SUMMARY:Olimpíada Brasileira de Satélites MCTI (OBSAT) - Fim Modalidade prática - Fase 3 - Lance seu satélite - etapas regionais
DESCRIPTION:Área temática: \n\nSatélites\n\nPúblico-alvo:  \n\nModalidade prática:\nNível 1 (N1) – Ensino Fundamental II;\nNível 2 (N2) – Ensino Médio e Técnico;\nNível 3 (N3) – Ensino Superior.\nModalidade teórica:\nNível Teórico 1 (NT1): Estudantes do 1º ano do Ensino Fundamental;\nNível Teórico 2 (NT2): Estudantes do 2º e 3º anos do Ensino Fundamental;\nNível Teórico 3 (NT3): Estudantes do 4º e 5º anos do Ensino Fundamental;\nNível Teórico 4 (NT4): Estudantes do 6º e 7º anos do Ensino Fundamental;\nNível Teórico 5 (NT5): Estudantes do 8º e 9º anos do Ensino Fundamental;\nNível Teórico 6 (NT6): Estudantes do Ensino Médio e Técnico.\n\nModalidades e fases:  \n\nModalidade prática:\nFase 0: Treinamento – Palestras para nivelamento na área aeroespacial\nFase 1: Planejamento – Imagine seu Satélite!\nFase 2: Construa\, programe\, teste seu satélite!\nFase 3: Lance seu satélite! – etapas regionais\nFase 4: Lance seu satélite! – etapa nacional\n\nModalidade teórica\nFase 0: Treinamento – Palestras para nivelamento na área aeroespacial\nFase 1: Avaliação online (Nível 1 a 6)\nFase 2: Avaliação presencial (Nível 6)\n\nFinanciamento\, apoio e/ou organização:  \n\nUFSCAR; Programa Espacial Brasileiro; AEB; LABRE; INPE; MCTI; Governo Federal
URL:https://comunidade-olimpiadas.ibict.br/event/olimpiada-brasileira-de-satelites-mcti-obsat-fim-modalidade-pratica-fase-3-lance-seu-satelite-etapas-regionais/
CATEGORIES:Prova de Competição Nacional
ATTACH;FMTTYPE=image/png:https://comunidade-olimpiadas.ibict.br/wp-content/uploads/2025/05/obsat.png
END:VEVENT
BEGIN:VEVENT
DTSTART;VALUE=DATE:20260501
DTEND;VALUE=DATE:20260502
DTSTAMP:20260419T215440
CREATED:20250702T141312Z
LAST-MODIFIED:20250702T141312Z
UID:2848-1777593600-1777679999@comunidade-olimpiadas.ibict.br
SUMMARY:Olimpíada Brasileira de Satélites MCTI (OBSAT) - Início Modalidade prática - Fase 4 - Lance seu satélite! Etapa nacional
DESCRIPTION:Área temática: \n\nSatélites\n\nPúblico-alvo:  \n\nModalidade prática:\nNível 1 (N1) – Ensino Fundamental II;\nNível 2 (N2) – Ensino Médio e Técnico;\nNível 3 (N3) – Ensino Superior.\nModalidade teórica:\nNível Teórico 1 (NT1): Estudantes do 1º ano do Ensino Fundamental;\nNível Teórico 2 (NT2): Estudantes do 2º e 3º anos do Ensino Fundamental;\nNível Teórico 3 (NT3): Estudantes do 4º e 5º anos do Ensino Fundamental;\nNível Teórico 4 (NT4): Estudantes do 6º e 7º anos do Ensino Fundamental;\nNível Teórico 5 (NT5): Estudantes do 8º e 9º anos do Ensino Fundamental;\nNível Teórico 6 (NT6): Estudantes do Ensino Médio e Técnico.\n\nModalidades e fases:  \n\nModalidade prática:\nFase 0: Treinamento – Palestras para nivelamento na área aeroespacial\nFase 1: Planejamento – Imagine seu Satélite!\nFase 2: Construa\, programe\, teste seu satélite!\nFase 3: Lance seu satélite! – etapas regionais\nFase 4: Lance seu satélite! – etapa nacional\n\nModalidade teórica\nFase 0: Treinamento – Palestras para nivelamento na área aeroespacial\nFase 1: Avaliação online (Nível 1 a 6)\nFase 2: Avaliação presencial (Nível 6)\n\nFinanciamento\, apoio e/ou organização:  \n\nUFSCAR; Programa Espacial Brasileiro; AEB; LABRE; INPE; MCTI; Governo Federal
URL:https://comunidade-olimpiadas.ibict.br/event/olimpiada-brasileira-de-satelites-mcti-obsat-inicio-modalidade-pratica-fase-4-lance-seu-satelite-etapa-nacional/
CATEGORIES:Prova de Competição Nacional
ATTACH;FMTTYPE=image/png:https://comunidade-olimpiadas.ibict.br/wp-content/uploads/2025/05/obsat.png
END:VEVENT
BEGIN:VEVENT
DTSTART;VALUE=DATE:20260501
DTEND;VALUE=DATE:20260502
DTSTAMP:20260419T215440
CREATED:20260226T205853Z
LAST-MODIFIED:20260312T123402Z
UID:3663-1777593600-1777679999@comunidade-olimpiadas.ibict.br
SUMMARY:OBA (Olimpíada Brasileira de Astronomia e Astronáutica) e OBAFOG – Encerramento das Inscrições
DESCRIPTION:Área temática: \n\nAstronomia e Astronáutica\n\nPúblico-alvo: \n\nEstudantes do Ensino Fundamental e Ensino Médio de escolas públicas e particulares de todo o país.\n\nFinanciamento\, apoio e/ou organização: \n\n\nSociedade Astronômica Brasileira (SAB) \n\n\nAgência Espacial Brasileira (AEB)
URL:https://comunidade-olimpiadas.ibict.br/event/oba-olimpiada-brasileira-de-astronomia-e-astronautica-e-obafog-encerramento-das-inscricoes/
CATEGORIES:Início e Fim de Inscrições
ATTACH;FMTTYPE=image/png:https://comunidade-olimpiadas.ibict.br/wp-content/uploads/2025/03/oba.png
END:VEVENT
BEGIN:VEVENT
DTSTART;VALUE=DATE:20260515
DTEND;VALUE=DATE:20260516
DTSTAMP:20260419T215440
CREATED:20260226T213013Z
LAST-MODIFIED:20260312T123336Z
UID:3665-1778803200-1778889599@comunidade-olimpiadas.ibict.br
SUMMARY:OBA (Olimpíada Brasileira de Astronomia e Astronáutica) – Prova Única
DESCRIPTION:Área temática: \n\nAstronomia\nAstronáutica\n\nPúblico alvo: \n\nEstudantes do Ensino Fundamental e Ensino Médio\n\nFinanciamento\, apoio e/ou organização: \n\nSociedade Astronômica Brasileira (SAB)\nAgência Espacial Brasileira (AEB)
URL:https://comunidade-olimpiadas.ibict.br/event/oba-olimpiada-brasileira-de-astronomia-e-astronautica-prova-unica/
CATEGORIES:Prova de Competição Nacional
ATTACH;FMTTYPE=image/png:https://comunidade-olimpiadas.ibict.br/wp-content/uploads/2025/03/oba.png
END:VEVENT
BEGIN:VEVENT
DTSTART;VALUE=DATE:20260515
DTEND;VALUE=DATE:20260516
DTSTAMP:20260419T215440
CREATED:20260226T213537Z
LAST-MODIFIED:20260312T123313Z
UID:3667-1778803200-1778889599@comunidade-olimpiadas.ibict.br
SUMMARY:OBAFOG (Olimpíada Brasileira de Foguetes) – Data limite para lançamentos
DESCRIPTION:Área temática: \n\nAstronomia\nAstronáutica\nFísica Aplicada\n\nPúblico alvo: \n\nEstudantes do Ensino Fundamental e Ensino Médio (atividade prática com foguetes reais nas escolas)\n\nFinanciamento\, apoio e/ou organização: \n\nSociedade Astronômica Brasileira (SAB)\nAgência Espacial Brasileira (AEB)
URL:https://comunidade-olimpiadas.ibict.br/event/obafog-olimpiada-brasileira-de-foguetes-data-limite-para-lancamentos/
CATEGORIES:Prova de Competição Nacional
ATTACH;FMTTYPE=image/png:https://comunidade-olimpiadas.ibict.br/wp-content/uploads/2025/03/obafog.png
END:VEVENT
BEGIN:VEVENT
DTSTART;TZID=America/Sao_Paulo:20260529T080000
DTEND;TZID=America/Sao_Paulo:20260913T170000
DTSTAMP:20260419T215440
CREATED:20260406T140603Z
LAST-MODIFIED:20260406T140603Z
UID:3795-1780041600-1789318800@comunidade-olimpiadas.ibict.br
SUMMARY:OBR (Olimpíada Brasileira de Robótica) – Desafios Práticos Presenciais (Etapas Regionais e Estaduais)
DESCRIPTION:Área temática \n\nRobótica\nTecnologia\n\nPúblico alvo \n\nEquipes devidamente inscritas na modalidade prática disputando classificação para a final nacional.\n\nFinanciamento\, apoio e/ou organização \n\nRoboCup Brasil\nInstituições-sede locais
URL:https://comunidade-olimpiadas.ibict.br/event/obr-olimpiada-brasileira-de-robotica-desafios-praticos-presenciais-etapas-regionais-e-estaduais/
CATEGORIES:Prova de Competição Nacional
ATTACH;FMTTYPE=image/png:https://comunidade-olimpiadas.ibict.br/wp-content/uploads/2025/03/obr.png
END:VEVENT
BEGIN:VEVENT
DTSTART;TZID=America/Sao_Paulo:20260608T080000
DTEND;TZID=America/Sao_Paulo:20260612T170000
DTSTAMP:20260419T215440
CREATED:20260406T141023Z
LAST-MODIFIED:20260406T141023Z
UID:3797-1780905600-1781283600@comunidade-olimpiadas.ibict.br
SUMMARY:OBR (Olimpíada Brasileira de Robótica) – Provas da 1ª Fase (Modalidade Teórica)
DESCRIPTION:Área temática \n\nRobótica\nTecnologia\n\nPúblico-alvo \n\nEstudantes do Ensino Fundamental\, Médio e Técnico Integrado inscritos na modalidade teórica (Níveis 0 a 5)\n\nFinanciamento\, apoio e/ou organização \n\nRoboCup Brasil\nCNPq\nMCTI
URL:https://comunidade-olimpiadas.ibict.br/event/obr-olimpiada-brasileira-de-robotica-provas-da-1a-fase-modalidade-teorica/
CATEGORIES:Prova de Competição Nacional
ATTACH;FMTTYPE=image/png:https://comunidade-olimpiadas.ibict.br/wp-content/uploads/2025/03/obr.png
END:VEVENT
BEGIN:VEVENT
DTSTART;VALUE=DATE:20260609
DTEND;VALUE=DATE:20260610
DTSTAMP:20260419T215440
CREATED:20260226T213738Z
LAST-MODIFIED:20260312T123250Z
UID:3669-1780963200-1781049599@comunidade-olimpiadas.ibict.br
SUMMARY:OBMEP (Olimpíada Brasileira de Matemática das Escolas Públicas) – Prova da 1ª Fase
DESCRIPTION:Área temática: \n\nMatemática\n\nPúblico alvo: \n\nEstudantes do 6º ano do Ensino Fundamental ao 3º ano do Ensino Médio\n\nFinanciamento\, apoio e/ou organização: \n\n\nIMPA (Instituto de Matemática Pura e Aplicada)
URL:https://comunidade-olimpiadas.ibict.br/event/obmep-olimpiada-brasileira-de-matematica-das-escolas-publicas-prova-da-1a-fase/
CATEGORIES:Etapa I - Fase 1,Prova de Competição Nacional
ATTACH;FMTTYPE=image/png:https://comunidade-olimpiadas.ibict.br/wp-content/uploads/2025/03/obmep.png
END:VEVENT
BEGIN:VEVENT
DTSTART;VALUE=DATE:20260630
DTEND;VALUE=DATE:20260701
DTSTAMP:20260419T215440
CREATED:20250830T015127Z
LAST-MODIFIED:20250830T015127Z
UID:2975-1782777600-1782863999@comunidade-olimpiadas.ibict.br
SUMMARY:Olimpíada Brasileira de Saúde e Meio Ambiente (OBSMA) - Fim de inscrições
DESCRIPTION:Área temática: \n\nSaúde e Meio Ambiente\n\nPúblico-alvo:  \n\nEstudantes do 6° ao 9° ano do Ensino Fundamental\nEstudantes do Ensino Médio\n\nModalidades e fases:  \n\nTrês modalidades: Audiovisual; Projeto de ciências; Produção de texto\n\nFinanciamento\, apoio e/ou organização:  \n\nCNPq; Fiocruz; SUS; Ministério da Saúde
URL:https://comunidade-olimpiadas.ibict.br/event/olimpiada-brasileira-de-saude-e-meio-ambiente-obsma-fim-de-inscricoes/
CATEGORIES:Início e Fim de Inscrições
END:VEVENT
BEGIN:VEVENT
DTSTART;VALUE=DATE:20260630
DTEND;VALUE=DATE:20260701
DTSTAMP:20260419T215440
CREATED:20260226T214252Z
LAST-MODIFIED:20260312T123229Z
UID:3671-1782777600-1782863999@comunidade-olimpiadas.ibict.br
SUMMARY:OBA (Olimpíada Brasileira de Astronomia e Astronáutica) – Divulgação dos Medalhistas – Apenas participantes
DESCRIPTION:Área temática: \n\nAstronomia\nAstronáutica\n\nPúblico alvo: \n\nEstudantes participantes da edição de 2026\n\nFinanciamento\, apoio e/ou organização: \n\nSociedade Astronômica Brasileira (SAB)\nAgência Espacial Brasileira (AEB)
URL:https://comunidade-olimpiadas.ibict.br/event/oba-olimpiada-brasileira-de-astronomia-e-astronautica-divulgacao-dos-medalhistas-apenas-participantes/
CATEGORIES:Divulgações de Medalhistas
ATTACH;FMTTYPE=image/png:https://comunidade-olimpiadas.ibict.br/wp-content/uploads/2025/03/oba.png
END:VEVENT
BEGIN:VEVENT
DTSTART;TZID=America/Sao_Paulo:20260712T080000
DTEND;TZID=America/Sao_Paulo:20260713T170000
DTSTAMP:20260419T215440
CREATED:20260406T141500Z
LAST-MODIFIED:20260406T141500Z
UID:3799-1783843200-1783962000@comunidade-olimpiadas.ibict.br
SUMMARY:OBF (Olimpíada Brasileira de Física) – Provas da 1ª Fase (Online)
DESCRIPTION:Área temática \n\nFísica\n\nPúblico-alvo \n\nEstudantes do 8º e 9º ano do Ensino Fundamental e do Ensino Médio devidamente inscritos por suas escolas\n\nFinanciamento\, apoio e/ou organização \n\n\nSBF (Sociedade Brasileira de Física)
URL:https://comunidade-olimpiadas.ibict.br/event/obf-olimpiada-brasileira-de-fisica-provas-da-1a-fase-online/
CATEGORIES:Prova de Competição Nacional
ATTACH;FMTTYPE=image/png:https://comunidade-olimpiadas.ibict.br/wp-content/uploads/2025/05/OBF.png
END:VEVENT
BEGIN:VEVENT
DTSTART;TZID=America/Sao_Paulo:20260804T080000
DTEND;TZID=America/Sao_Paulo:20260806T170000
DTSTAMP:20260419T215440
CREATED:20260312T120309Z
LAST-MODIFIED:20260312T123204Z
UID:3724-1785830400-1786035600@comunidade-olimpiadas.ibict.br
SUMMARY:OBG (Olimpíada Brasileira de Geografia) – Prova da 1ª Fase (Online) – Apenas equipes inscritas
DESCRIPTION:Área temática \n\nGeografia\n\nPúblico alvo \n\nEquipes de estudantes devidamente inscritas na competição.\n\nFinanciamento\, apoio e/ou organização \n\nUNIFAL-MG\nAssociação Brasileira de Geografia
URL:https://comunidade-olimpiadas.ibict.br/event/obgeo-olimpiada-brasileira-de-geografia-prova-da-1a-fase-online-apenas-equipes-inscritas/
CATEGORIES:Prova de Competição Nacional
ATTACH;FMTTYPE=image/png:https://comunidade-olimpiadas.ibict.br/wp-content/uploads/2025/05/OBG.png
END:VEVENT
BEGIN:VEVENT
DTSTART;VALUE=DATE:20260811
DTEND;VALUE=DATE:20260812
DTSTAMP:20260419T215440
CREATED:20260406T141653Z
LAST-MODIFIED:20260406T141653Z
UID:3801-1786406400-1786492799@comunidade-olimpiadas.ibict.br
SUMMARY:OBR (Olimpíada Brasileira de Robótica) – Provas da 2ª Fase Teórica (Níveis 1 e 2) – Apenas para classificados na 1ª fase
DESCRIPTION:Área temática \n\nRobótica\nTecnologia\n\nPúblico-alvo \n\nEstudantes do 2º ao 5º ano do Ensino Fundamental com os melhores desempenhos na etapa anterior\n\nFinanciamento\, apoio e/ou organização \n\nRoboCup Brasil\nCNPq\nMCTI
URL:https://comunidade-olimpiadas.ibict.br/event/obr-olimpiada-brasileira-de-robotica-provas-da-2a-fase-teorica-niveis-1-e-2-apenas-para-classificados-na-1a-fase/
CATEGORIES:Prova de Competição Nacional
ATTACH;FMTTYPE=image/png:https://comunidade-olimpiadas.ibict.br/wp-content/uploads/2025/03/obr.png
END:VEVENT
BEGIN:VEVENT
DTSTART;TZID=America/Sao_Paulo:20260811T080000
DTEND;TZID=America/Sao_Paulo:20260813T170000
DTSTAMP:20260419T215440
CREATED:20260312T120505Z
LAST-MODIFIED:20260312T120505Z
UID:3726-1786435200-1786640400@comunidade-olimpiadas.ibict.br
SUMMARY:OBG (Olimpíada Brasileira de Geografia) – Prova da 2ª Fase (Online) – Apenas equipes inscritas
DESCRIPTION:Área temática \n\nGeografia\n\nPúblico alvo \n\nEquipes de estudantes devidamente inscritas na competição.\n\nFinanciamento\, apoio e/ou organização \n\nUNIFAL-MG\nAssociação Brasileira de Geografia
URL:https://comunidade-olimpiadas.ibict.br/event/obg-olimpiada-brasileira-de-geografia-prova-da-2a-fase-online-apenas-equipes-inscritas/
CATEGORIES:Prova de Competição Nacional
ATTACH;FMTTYPE=image/png:https://comunidade-olimpiadas.ibict.br/wp-content/uploads/2025/05/OBG.png
END:VEVENT
BEGIN:VEVENT
DTSTART;VALUE=DATE:20260812
DTEND;VALUE=DATE:20260813
DTSTAMP:20260419T215440
CREATED:20260312T120959Z
LAST-MODIFIED:20260312T120959Z
UID:3728-1786492800-1786579199@comunidade-olimpiadas.ibict.br
SUMMARY:OBFEP (Olimpíada Brasileira de Física das Escolas Públicas) – Prova da 1ª Fase – Apenas escolas públicas
DESCRIPTION:Área temática \n\nFísica\n\nPúblico alvo \n\nEstudantes inscritos pelas escolas públicas (prova aplicada na própria instituição)\n\nFinanciamento\, apoio e/ou organização \n\nSBF (Sociedade Brasileira de Física)\nCNPq
URL:https://comunidade-olimpiadas.ibict.br/event/obfep-olimpiada-brasileira-de-fisica-das-escolas-publicas-prova-da-1a-fase-apenas-escolas-publicas/
CATEGORIES:Prova de Competição Nacional
ATTACH;FMTTYPE=image/png:https://comunidade-olimpiadas.ibict.br/wp-content/uploads/2025/05/OBFEP.png
END:VEVENT
BEGIN:VEVENT
DTSTART;VALUE=DATE:20260812
DTEND;VALUE=DATE:20260813
DTSTAMP:20260419T215440
CREATED:20260406T142311Z
LAST-MODIFIED:20260406T142311Z
UID:3803-1786492800-1786579199@comunidade-olimpiadas.ibict.br
SUMMARY:OBR (Olimpíada Brasileira de Robótica) – Provas da 2ª Fase Teórica (Níveis 3 e 4) – Apenas para classificados na 1ª fase
DESCRIPTION:Área temática \n\nRobótica\nTecnologia\n\nPúblico-alvo \n\nEstudantes do 6º ao 9º ano do Ensino Fundamental com os melhores desempenhos na etapa anterior.\n\nFinanciamento\, apoio e/ou organização \n\nRoboCup Brasil\nCNPq\nMCTI
URL:https://comunidade-olimpiadas.ibict.br/event/obr-olimpiada-brasileira-de-robotica-provas-da-2a-fase-teorica-niveis-3-e-4-apenas-para-classificados-na-1a-fase/
CATEGORIES:Prova de Competição Nacional
ATTACH;FMTTYPE=image/png:https://comunidade-olimpiadas.ibict.br/wp-content/uploads/2025/03/obr.png
END:VEVENT
BEGIN:VEVENT
DTSTART;VALUE=DATE:20260813
DTEND;VALUE=DATE:20260814
DTSTAMP:20260419T215440
CREATED:20260406T142540Z
LAST-MODIFIED:20260406T142540Z
UID:3805-1786579200-1786665599@comunidade-olimpiadas.ibict.br
SUMMARY:OBR (Olimpíada Brasileira de Robótica) – Provas da 2ª Fase Teórica (Nível 5) – Apenas para classificados na 1ª fase
DESCRIPTION:Área temática \n\nRobótica\nTecnologia\n\nPúblico-alvo \n\nEstudantes do Ensino Médio e Técnico Integrado com os melhores desempenhos na etapa anterior.\n\nFinanciamento\, apoio e/ou organização \n\nRoboCup Brasil\nCNPq\nMCTI
URL:https://comunidade-olimpiadas.ibict.br/event/obr-olimpiada-brasileira-de-robotica-provas-da-2a-fase-teorica-nivel-5-apenas-para-classificados-na-1a-fase/
CATEGORIES:Prova de Competição Nacional
ATTACH;FMTTYPE=image/png:https://comunidade-olimpiadas.ibict.br/wp-content/uploads/2025/03/obr.png
END:VEVENT
BEGIN:VEVENT
DTSTART;VALUE=DATE:20260814
DTEND;VALUE=DATE:20260815
DTSTAMP:20260419T215440
CREATED:20260226T214932Z
LAST-MODIFIED:20260226T214932Z
UID:3673-1786665600-1786751999@comunidade-olimpiadas.ibict.br
SUMMARY:OBMED (Olimpíada Brasileira de Medicina) – Encerramento das Inscrições
DESCRIPTION:Área temática: \n\nCiências da Saúde\nMedicina\n\nPúblico alvo: \n\nEstudantes do Ensino Médio de todo o país com interesse em aprofundamento nas ciências médicas\n\nFinanciamento\, apoio e/ou organização: \n\n\nCoordenação Nacional da OBMED
URL:https://comunidade-olimpiadas.ibict.br/event/obmed-olimpiada-brasileira-de-medicina-encerramento-das-inscricoes/
CATEGORIES:Início e Fim de Inscrições
END:VEVENT
BEGIN:VEVENT
DTSTART;VALUE=DATE:20260815
DTEND;VALUE=DATE:20260816
DTSTAMP:20260419T215440
CREATED:20260406T142737Z
LAST-MODIFIED:20260406T142737Z
UID:3807-1786752000-1786838399@comunidade-olimpiadas.ibict.br
SUMMARY:OBF (Olimpíada Brasileira de Física) – Prova da 2ª Fase (Presencial) – Apenas para classificados na 1ª fase
DESCRIPTION:Área temática \n\nFísica\n\nPúblico-alvo \n\nEstudantes de todas as séries avaliadas que obtiveram nota de corte na fase online. Será aplicada presencialmente na própria escola\n\nFinanciamento\, apoio e/ou organização \n\n\nSBF (Sociedade Brasileira de Física)
URL:https://comunidade-olimpiadas.ibict.br/event/obf-olimpiada-brasileira-de-fisica-prova-da-2a-fase-presencial-apenas-para-classificados-na-1a-fase/
CATEGORIES:Prova de Competição Nacional
ATTACH;FMTTYPE=image/png:https://comunidade-olimpiadas.ibict.br/wp-content/uploads/2025/05/OBF.png
END:VEVENT
BEGIN:VEVENT
DTSTART;TZID=America/Sao_Paulo:20260818T080000
DTEND;TZID=America/Sao_Paulo:20260819T170000
DTSTAMP:20260419T215440
CREATED:20260312T121217Z
LAST-MODIFIED:20260312T121217Z
UID:3730-1787040000-1787158800@comunidade-olimpiadas.ibict.br
SUMMARY:OBG (Olimpíada Brasileira de Geografia) – Prova da 3ª Fase (Online) – Apenas equipes inscritas
DESCRIPTION:Área temática \n\nGeografia\n\nPúblico alvo \n\nEquipes de estudantes devidamente inscritas na competição.\n\nFinanciamento\, apoio e/ou organização \n\nUNIFAL-MG\nAssociação Brasileira de Geografia
URL:https://comunidade-olimpiadas.ibict.br/event/obg-olimpiada-brasileira-de-geografia-prova-da-3a-fase-online-apenas-equipes-inscritas/
CATEGORIES:Prova de Competição Nacional
ATTACH;FMTTYPE=image/png:https://comunidade-olimpiadas.ibict.br/wp-content/uploads/2025/05/OBG.png
END:VEVENT
BEGIN:VEVENT
DTSTART;TZID=America/Sao_Paulo:20260819T080000
DTEND;TZID=America/Sao_Paulo:20260831T170000
DTSTAMP:20260419T215440
CREATED:20260226T215229Z
LAST-MODIFIED:20260312T122820Z
UID:3675-1787126400-1788195600@comunidade-olimpiadas.ibict.br
SUMMARY:OBMED (Olimpíada Brasileira de Medicina) – Aplicação das Provas – Apenas inscritos
DESCRIPTION:Área temática: \n\nCiências da Saúde\nMedicina\n\nPúblico alvo: \n\nEstudantes do Ensino Médio devidamente inscritos\n\nFinanciamento\, apoio e/ou organização: \n\n\nCoordenação Nacional da OBMED
URL:https://comunidade-olimpiadas.ibict.br/event/obmed-olimpiada-brasileira-de-medicina-aplicacao-das-provas-apenas-inscritos/
CATEGORIES:Prova de Competição Nacional
ATTACH;FMTTYPE=image/png:https://comunidade-olimpiadas.ibict.br/wp-content/uploads/2026/02/Captura-de-tela-2026-03-12-092647-e1773318619539.png
END:VEVENT
BEGIN:VEVENT
DTSTART;VALUE=DATE:20260828
DTEND;VALUE=DATE:20260829
DTSTAMP:20260419T215440
CREATED:20260312T121623Z
LAST-MODIFIED:20260312T121623Z
UID:3732-1787875200-1787961599@comunidade-olimpiadas.ibict.br
SUMMARY:OBQ (Olimpíada Brasileira de Química) – Prova Fase Nacional (Modalidades A e B) – Apenas para classificados nas fases estaduais
DESCRIPTION:Área temática \n\nQuímica\n\nPúblico alvo \n\nEstudantes do Ensino Médio\nTécnico previamente classificados nas seletivas estaduais da OBQ\n\nFinanciamento\, apoio e/ou organização \n\nABQ (Associação Brasileira de Química)
URL:https://comunidade-olimpiadas.ibict.br/event/obq-olimpiada-brasileira-de-quimica-prova-fase-nacional-modalidades-a-e-b-apenas-para-classificados-nas-fases-estaduais/
CATEGORIES:Prova de Competição Nacional
ATTACH;FMTTYPE=image/png:https://comunidade-olimpiadas.ibict.br/wp-content/uploads/2025/05/OBQ.png
END:VEVENT
BEGIN:VEVENT
DTSTART;VALUE=DATE:20260901
DTEND;VALUE=DATE:20260902
DTSTAMP:20260419T215440
CREATED:20260312T121900Z
LAST-MODIFIED:20260312T121900Z
UID:3734-1788220800-1788307199@comunidade-olimpiadas.ibict.br
SUMMARY:OBG (Olimpíada Brasileira de Geografia) – Divulgação dos Resultados e Classificados – Apenas participantes da 3ª fase
DESCRIPTION:Área temática \n\nGeografia\n\nPúblico alvo \n\nEquipes que completaram as três fases online e aguardam classificação para a etapa presencial.\n\nFinanciamento\, apoio e/ou organização \n\nUNIFAL-MG\nAssociação Brasileira de Geografia
URL:https://comunidade-olimpiadas.ibict.br/event/obg-olimpiada-brasileira-de-geografia-divulgacao-dos-resultados-e-classificados-apenas-participantes-da-3a-fase/
CATEGORIES:Divulgações de Medalhistas
ATTACH;FMTTYPE=image/png:https://comunidade-olimpiadas.ibict.br/wp-content/uploads/2025/05/OBG.png
END:VEVENT
BEGIN:VEVENT
DTSTART;VALUE=DATE:20261017
DTEND;VALUE=DATE:20261018
DTSTAMP:20260419T215440
CREATED:20260226T220037Z
LAST-MODIFIED:20260312T122533Z
UID:3677-1792195200-1792281599@comunidade-olimpiadas.ibict.br
SUMMARY:OBMEP (Olimpíada Brasileira de Matemática das Escolas Públicas) – Prova da 2ª Fase – Apenas para classificados na 1ª fase
DESCRIPTION:Área temática: \n\nMatemática\n\nPúblico-alvo: \n\nEstudantes com as melhores pontuações na 1ª fase (prova discursiva).\n\nFinanciamento\, apoio e/ou organização: \n\n\nIMPA (Instituto de Matemática Pura e Aplicada)
URL:https://comunidade-olimpiadas.ibict.br/event/obmep-olimpiada-brasileira-de-matematica-das-escolas-publicas-prova-da-2a-fase-apenas-para-classificados-na-1a-fase/
CATEGORIES:Prova de Competição Nacional
ATTACH;FMTTYPE=image/png:https://comunidade-olimpiadas.ibict.br/wp-content/uploads/2025/03/obmep.png
END:VEVENT
BEGIN:VEVENT
DTSTART;VALUE=DATE:20261031
DTEND;VALUE=DATE:20261101
DTSTAMP:20260419T215440
CREATED:20260312T122114Z
LAST-MODIFIED:20260312T122114Z
UID:3736-1793404800-1793491199@comunidade-olimpiadas.ibict.br
SUMMARY:OBFEP (Olimpíada Brasileira de Física das Escolas Públicas) – Prova da 2ª Fase – Apenas para classificados na 1ª fase
DESCRIPTION:Área temática \n\nFísica\n\nPúblico alvo \n\nEstudantes da rede pública com as melhores pontuações na fase anterior.\n\nFinanciamento\, apoio e/ou organização \n\nSBF (Sociedade Brasileira de Física)\nCNPq
URL:https://comunidade-olimpiadas.ibict.br/event/obfep-olimpiada-brasileira-de-fisica-das-escolas-publicas-prova-da-2a-fase-apenas-para-classificados-na-1a-fase/
CATEGORIES:Prova de Competição Nacional
ATTACH;FMTTYPE=image/png:https://comunidade-olimpiadas.ibict.br/wp-content/uploads/2025/05/OBFEP.png
END:VEVENT
END:VCALENDAR